BEGIN:VCALENDAR
VERSION:2.0
PRODID:-//Bürgerverein Gailhof e.V. - ECPv6.15.20//NONSGML v1.0//EN
CALSCALE:GREGORIAN
METHOD:PUBLISH
X-WR-CALNAME:Bürgerverein Gailhof e.V.
X-ORIGINAL-URL:https://bv-gailhof.de
X-WR-CALDESC:Veranstaltungen für Bürgerverein Gailhof e.V.
REFRESH-INTERVAL;VALUE=DURATION:PT1H
X-Robots-Tag:noindex
X-PUBLISHED-TTL:PT1H
BEGIN:VTIMEZONE
TZID:UTC
BEGIN:STANDARD
TZOFFSETFROM:+0000
TZOFFSETTO:+0000
TZNAME:UTC
DTSTART:20250101T000000
END:STANDARD
END:VTIMEZONE
BEGIN:VEVENT
DTSTART;TZID=UTC:20260507T160000
DTEND;TZID=UTC:20260507T180000
DTSTAMP:20260423T100746
CREATED:20260127T201507Z
LAST-MODIFIED:20260127T201507Z
UID:1294-1778169600-1778176800@bv-gailhof.de
SUMMARY:Königsschießen (Meldeschluss 17:30) [termin]
DESCRIPTION:
URL:https://bv-gailhof.de/event/koenigsschiessen-meldeschluss-1730-termin
CATEGORIES:Schützenverein
END:VEVENT
BEGIN:VEVENT
DTSTART;TZID=UTC:20260509T100000
DTEND;TZID=UTC:20260509T123000
DTSTAMP:20260423T100747
CREATED:20260127T201507Z
LAST-MODIFIED:20260127T201507Z
UID:1295-1778320800-1778329800@bv-gailhof.de
SUMMARY:Königsschießen (Meldeschluss 11:30) [termin]
DESCRIPTION:
URL:https://bv-gailhof.de/event/koenigsschiessen-meldeschluss-1130-termin
CATEGORIES:Schützenverein
END:VEVENT
BEGIN:VEVENT
DTSTART;TZID=UTC:20260528T160000
DTEND;TZID=UTC:20260528T180000
DTSTAMP:20260423T100747
CREATED:20260127T201521Z
LAST-MODIFIED:20260127T201521Z
UID:1296-1779984000-1779991200@bv-gailhof.de
SUMMARY:Überraschungswettkampf [termin]
DESCRIPTION:
URL:https://bv-gailhof.de/event/ueberraschungswettkampf-termin
CATEGORIES:Schützenverein
END:VEVENT
BEGIN:VEVENT
DTSTART;TZID=UTC:20260530T110000
DTEND;TZID=UTC:20260530T120000
DTSTAMP:20260423T100747
CREATED:20260127T201522Z
LAST-MODIFIED:20260127T204131Z
UID:1297-1780138800-1780142400@bv-gailhof.de
SUMMARY:Gailhofer Kinder-Lese-Treff [termin]
DESCRIPTION:
URL:https://bv-gailhof.de/event/gailhofer-kinder-lese-treff-termin-10
CATEGORIES:Bürgerverein
END:VEVENT
END:VCALENDAR