BEGIN:VCALENDAR
VERSION:2.0
PRODID:-//Bürgerverein Gailhof e.V. - ECPv6.15.20//NONSGML v1.0//EN
CALSCALE:GREGORIAN
METHOD:PUBLISH
X-WR-CALNAME:Bürgerverein Gailhof e.V.
X-ORIGINAL-URL:https://bv-gailhof.de
X-WR-CALDESC:Veranstaltungen für Bürgerverein Gailhof e.V.
REFRESH-INTERVAL;VALUE=DURATION:PT1H
X-Robots-Tag:noindex
X-PUBLISHED-TTL:PT1H
BEGIN:VTIMEZONE
TZID:UTC
BEGIN:STANDARD
TZOFFSETFROM:+0000
TZOFFSETTO:+0000
TZNAME:UTC
DTSTART:20250101T000000
END:STANDARD
END:VTIMEZONE
BEGIN:VEVENT
DTSTART;TZID=UTC:20260108T160000
DTEND;TZID=UTC:20260108T180000
DTSTAMP:20260419T144647
CREATED:20260127T201432Z
LAST-MODIFIED:20260127T201432Z
UID:1277-1767888000-1767895200@bv-gailhof.de
SUMMARY:Übungsschießen (Kinder ab 6 Jahre) [termin]
DESCRIPTION:
URL:https://bv-gailhof.de/event/uebungsschiessen-kinder-ab-6-jahre-termin
CATEGORIES:Schützenverein
END:VEVENT
BEGIN:VEVENT
DTSTART;TZID=UTC:20260110T170000
DTEND;TZID=UTC:20260110T190000
DTSTAMP:20260419T144647
CREATED:20260127T201432Z
LAST-MODIFIED:20260127T201432Z
UID:1278-1768064400-1768071600@bv-gailhof.de
SUMMARY:Tannenbaumverbrennen [termin]
DESCRIPTION:
URL:https://bv-gailhof.de/event/tannenbaumverbrennen-termin
CATEGORIES:Freiwillige Jugendfeuerwehr
END:VEVENT
BEGIN:VEVENT
DTSTART;TZID=UTC:20260122T170000
DTEND;TZID=UTC:20260122T190000
DTSTAMP:20260419T144647
CREATED:20260127T201433Z
LAST-MODIFIED:20260127T201433Z
UID:1279-1769101200-1769108400@bv-gailhof.de
SUMMARY:Bowlen (nur für Vereinsmitglieder) [termin]
DESCRIPTION:
URL:https://bv-gailhof.de/event/bowlen-nur-fuer-vereinsmitglieder-termin
CATEGORIES:Schützenverein
END:VEVENT
BEGIN:VEVENT
DTSTART;TZID=UTC:20260124T110000
DTEND;TZID=UTC:20260124T120000
DTSTAMP:20260419T144647
CREATED:20260127T201433Z
LAST-MODIFIED:20260127T201433Z
UID:1280-1769252400-1769256000@bv-gailhof.de
SUMMARY:Gailhofer Kinder-Lese-Treff [termin]
DESCRIPTION:
URL:https://bv-gailhof.de/event/gailhofer-kinder-lese-treff-termin-7
CATEGORIES:Bürgerverein
END:VEVENT
BEGIN:VEVENT
DTSTART;TZID=UTC:20260131T160000
DTEND;TZID=UTC:20260131T200000
DTSTAMP:20260419T144647
CREATED:20260127T201433Z
LAST-MODIFIED:20260127T201433Z
UID:1281-1769875200-1769889600@bv-gailhof.de
SUMMARY:School is over Kinderdisco [termin]
DESCRIPTION:
URL:https://bv-gailhof.de/event/school-is-over-kinderdisco-termin
CATEGORIES:Bürgerverein
END:VEVENT
END:VCALENDAR