BEGIN:VCALENDAR
VERSION:2.0
PRODID:-//Bürgerverein Gailhof e.V. - ECPv6.15.20//NONSGML v1.0//EN
CALSCALE:GREGORIAN
METHOD:PUBLISH
X-ORIGINAL-URL:https://bv-gailhof.de
X-WR-CALDESC:Veranstaltungen für Bürgerverein Gailhof e.V.
REFRESH-INTERVAL;VALUE=DURATION:PT1H
X-Robots-Tag:noindex
X-PUBLISHED-TTL:PT1H
BEGIN:VTIMEZONE
TZID:UTC
BEGIN:STANDARD
TZOFFSETFROM:+0000
TZOFFSETTO:+0000
TZNAME:UTC
DTSTART:20250101T000000
END:STANDARD
END:VTIMEZONE
BEGIN:VEVENT
DTSTART;TZID=UTC:20261128T110000
DTEND;TZID=UTC:20261128T120000
DTSTAMP:20260422T124419
CREATED:20260127T140205Z
LAST-MODIFIED:20260127T204130Z
UID:1177-1795863600-1795867200@bv-gailhof.de
SUMMARY:Gailhofer Kinder-Lese-Treff [termin]
DESCRIPTION:
URL:https://bv-gailhof.de/event/gailhofer-kinder-lese-treff-termin-6
CATEGORIES:Bürgerverein
END:VEVENT
BEGIN:VEVENT
DTSTART;TZID=UTC:20261128T144000
DTEND;TZID=UTC:20261128T163000
DTSTAMP:20260422T124419
CREATED:20260127T203624Z
LAST-MODIFIED:20260127T204130Z
UID:1307-1795876800-1795883400@bv-gailhof.de
SUMMARY:Weihnachtsbasteln [termin]
DESCRIPTION:
URL:https://bv-gailhof.de/event/weihnachtsbasteln-termin-3
CATEGORIES:Bürgerverein
END:VEVENT
END:VCALENDAR