BEGIN:VCALENDAR
VERSION:2.0
PRODID:-//Bürgerverein Gailhof e.V. - ECPv6.15.20//NONSGML v1.0//EN
CALSCALE:GREGORIAN
METHOD:PUBLISH
X-WR-CALNAME:Bürgerverein Gailhof e.V.
X-ORIGINAL-URL:https://bv-gailhof.de
X-WR-CALDESC:Veranstaltungen für Bürgerverein Gailhof e.V.
REFRESH-INTERVAL;VALUE=DURATION:PT1H
X-Robots-Tag:noindex
X-PUBLISHED-TTL:PT1H
BEGIN:VTIMEZONE
TZID:UTC
BEGIN:STANDARD
TZOFFSETFROM:+0000
TZOFFSETTO:+0000
TZNAME:UTC
DTSTART:20250101T000000
END:STANDARD
END:VTIMEZONE
BEGIN:VEVENT
DTSTART;TZID=UTC:20260319T160000
DTEND;TZID=UTC:20260319T180000
DTSTAMP:20260419T131923
CREATED:20260127T201451Z
LAST-MODIFIED:20260127T201451Z
UID:1287-1773936000-1773943200@bv-gailhof.de
SUMMARY:Neongolfen (nur für Vereinsmitglieder) [termin]
DESCRIPTION:
URL:https://bv-gailhof.de/event/neongolfen-nur-fuer-vereinsmitglieder-termin
CATEGORIES:Schützenverein
END:VEVENT
END:VCALENDAR